BEGIN:VCALENDAR
VERSION:2.0
PRODID:-//eventon.com NONSGML v1.0//EN
CALSCALE:GREGORIAN
METHOD:PUBLISH
BEGIN:VEVENT
UID:69e7ac19113ce
DTSTAMP:20260421T165553Z
DTSTART:20251003T190000Z
DTEND:20251004T020000Z
LOCATION:
SUMMARY:Festival EGUA DE TROIA
DESCRIPTION:EGUA DE TROIA és un festival que pretén ser un espai inclusi
 u\,  divers i segur on la música feta per dones i dissidències prengui po
 ssessió de la @esgremi de Palma el 3 d'octubre\,  de 21h a 04h. Entrad
 es a la venda AQUIhttps://esgremi.com/evento/festival-egua-de-troia Euga&nb
 sp;de&nbsp;troia&nbsp;és un concert\,  i és també l'avanç de les I jorn
 ades literàries&nbsp;cuir&nbsp;que se[..]\nhttps://lautopica.org/activitat
 /festival-egua-de-troia/
URL:https://lautopica.org/activitat/festival-egua-de-troia/
END:VEVENT
END:VCALENDAR