BEGIN:VCALENDAR
VERSION:2.0
PRODID:-//eventon.com NONSGML v1.0//EN
CALSCALE:GREGORIAN
METHOD:PUBLISH
BEGIN:VEVENT
UID:69e4faa050e86
DTSTAMP:20260419T155408Z
DTSTART:20240327T140000Z
DTEND:20240327T140000Z
LOCATION:
SUMMARY:Curs bàsic de llengua de signes espanyola (LSE)
DESCRIPTION:Nou curs bàsic de llengua de signes espanyola (LSE) a Palma. L
 es classes es realitzaran tots els dilluns a partir del 15 d'abril de 2024 
 fins el 17 de juny. L'horari és de 10.00 a 12.00h. No és necessari saber 
 llengua de signes ni tenir cap titulació prèvia. Hores: 20h[..]\nhttps://
 lautopica.org/activitat/curs-basic-de-llengua-de-signes-espanyola-lse/
URL:https://lautopica.org/activitat/curs-basic-de-llengua-de-signes-espanyola-lse/
END:VEVENT
END:VCALENDAR